BEGIN:VCALENDAR
CALSCALE:GREGORIAN
METHOD:PUBLISH
PRODID:-//cfa-germany/events//NONSGML v1.0//EN
VERSION:2.0
BEGIN:VTIMEZONE
TZID:W. Europe Standard Time
BEGIN:STANDARD
DTSTART:16010101T030000
TZOFFSETFROM:+0200
TZOFFSETTO:+0100
RRULE:FREQ=YEARLY;INTERVAL=1;BYDAY=-1SU;BYMONTH=10
END:STANDARD
BEGIN:DAYLIGHT
DTSTART:16010101T020000
TZOFFSETFROM:+0100
TZOFFSETTO:+0200
RRULE:FREQ=YEARLY;INTERVAL=1;BYDAY=-1SU;BYMONTH=3
END:DAYLIGHT
END:VTIMEZONE
BEGIN:VEVENT
DESCRIPTION:Global Credit Market Outlook: Navigating markets in the year ahead
DTEND;TZID=W. Europe Standard Time:20240319T130000
DTSTAMP:20260423T005600
DTSTART;TZID=W. Europe Standard Time:20240319T120000
LOCATION:virtuell
SUMMARY:Global Credit Market Outlook: Navigating markets in the year ahead
UID:e1bd664ee16ae6ea89f5604cd0c5eb1a
END:VEVENT
END:VCALENDAR