BEGIN:VCALENDAR
CALSCALE:GREGORIAN
METHOD:PUBLISH
PRODID:-//cfa-germany/events//NONSGML v1.0//EN
VERSION:2.0
BEGIN:VTIMEZONE
TZID:W. Europe Standard Time
BEGIN:STANDARD
DTSTART:16010101T030000
TZOFFSETFROM:+0200
TZOFFSETTO:+0100
RRULE:FREQ=YEARLY;INTERVAL=1;BYDAY=-1SU;BYMONTH=10
END:STANDARD
BEGIN:DAYLIGHT
DTSTART:16010101T020000
TZOFFSETFROM:+0100
TZOFFSETTO:+0200
RRULE:FREQ=YEARLY;INTERVAL=1;BYDAY=-1SU;BYMONTH=3
END:DAYLIGHT
END:VTIMEZONE
BEGIN:VEVENT
DESCRIPTION:25 Years Celebration Düsseldorf
DTEND;TZID=W. Europe Standard Time:20250925T220000
DTSTAMP:20260422T222612
DTSTART;TZID=W. Europe Standard Time:20250925T183000
LOCATION:Stappen Oberkassel
SUMMARY:25 Years Celebration Düsseldorf
UID:715b601438c132c2f77e7f8825d24a88
END:VEVENT
END:VCALENDAR