BEGIN:VCALENDAR
CALSCALE:GREGORIAN
METHOD:PUBLISH
PRODID:-//cfa-germany/events//NONSGML v1.0//EN
VERSION:2.0
BEGIN:VTIMEZONE
TZID:W. Europe Standard Time
BEGIN:STANDARD
DTSTART:16010101T030000
TZOFFSETFROM:+0200
TZOFFSETTO:+0100
RRULE:FREQ=YEARLY;INTERVAL=1;BYDAY=-1SU;BYMONTH=10
END:STANDARD
BEGIN:DAYLIGHT
DTSTART:16010101T020000
TZOFFSETFROM:+0100
TZOFFSETTO:+0200
RRULE:FREQ=YEARLY;INTERVAL=1;BYDAY=-1SU;BYMONTH=3
END:DAYLIGHT
END:VTIMEZONE
BEGIN:VEVENT
DESCRIPTION:Zwischen Inflation und Rezession
DTEND;TZID=W. Europe Standard Time:20231213T133000
DTSTAMP:20260425T234334
DTSTART;TZID=W. Europe Standard Time:20231213T120000
LOCATION:Flossbach von Storch - Köln
SUMMARY:Zwischen Inflation und Rezession
UID:b8fa30931720b93b38db217c831dc068
END:VEVENT
END:VCALENDAR